BEGIN:VCALENDAR
VERSION:2.0
PRODID:-//Athens State University - ECPv6.15.19//NONSGML v1.0//EN
CALSCALE:GREGORIAN
METHOD:PUBLISH
X-WR-CALNAME:Athens State University
X-ORIGINAL-URL:https://www.athens.edu
X-WR-CALDESC:Events for Athens State University
REFRESH-INTERVAL;VALUE=DURATION:PT1H
X-Robots-Tag:noindex
X-PUBLISHED-TTL:PT1H
BEGIN:VTIMEZONE
TZID:America/Chicago
BEGIN:DAYLIGHT
TZOFFSETFROM:-0600
TZOFFSETTO:-0500
TZNAME:CDT
DTSTART:20250309T080000
END:DAYLIGHT
BEGIN:STANDARD
TZOFFSETFROM:-0500
TZOFFSETTO:-0600
TZNAME:CST
DTSTART:20251102T070000
END:STANDARD
BEGIN:DAYLIGHT
TZOFFSETFROM:-0600
TZOFFSETTO:-0500
TZNAME:CDT
DTSTART:20260308T080000
END:DAYLIGHT
BEGIN:STANDARD
TZOFFSETFROM:-0500
TZOFFSETTO:-0600
TZNAME:CST
DTSTART:20261101T070000
END:STANDARD
BEGIN:DAYLIGHT
TZOFFSETFROM:-0600
TZOFFSETTO:-0500
TZNAME:CDT
DTSTART:20270314T080000
END:DAYLIGHT
BEGIN:STANDARD
TZOFFSETFROM:-0500
TZOFFSETTO:-0600
TZNAME:CST
DTSTART:20271107T070000
END:STANDARD
END:VTIMEZONE
BEGIN:VEVENT
DTSTART;TZID=America/Chicago:20260210T160000
DTEND;TZID=America/Chicago:20260510T180000
DTSTAMP:20260422T050022
CREATED:20260202T214726Z
LAST-MODIFIED:20260203T174817Z
UID:73869-1770739200-1778436000@www.athens.edu
SUMMARY:Transfer Tuesdays
DESCRIPTION:Come visit us every Tuesday between 4:00-6:00 pm to tour the campus\, meet with admissions\, hear about scholarship opportunities and meet current students.  This is for anyone interested in starting college at Athens State. \n  \nEvery attendee will receive a free SWAG item! \nLocation: Sandridge Student Center Ballroom \nCheck-In: 4:00 pm \nSign Up: https://athensstate.my.salesforce-sites.com/events#/list?type=transfer%20tuesdays
URL:https://www.athens.edu/event/transfer-tuesdays/
LOCATION:Sandridge Student Center Ballroom
CATEGORIES:Academics,Athens State,Admissions
END:VEVENT
BEGIN:VEVENT
DTSTART;VALUE=DATE:20260302
DTEND;VALUE=DATE:20260509
DTSTAMP:20260422T050022
CREATED:20260212T192316Z
LAST-MODIFIED:20260217T182130Z
UID:74063-1772409600-1778284799@www.athens.edu
SUMMARY:Char Baxter Solo Exhibition at Nazaretian
DESCRIPTION:
URL:https://www.athens.edu/event/char-baxter-solo-exhibition-at-nazaretian/
LOCATION:Nazaretian Alumni Welcome Center\, 300 N. Beaty St\, Athens\, AL\, United States
CATEGORIES:Athens State,Community
END:VEVENT
BEGIN:VEVENT
DTSTART;TZID=America/Chicago:20260413T180000
DTEND;TZID=America/Chicago:20260417T193000
DTSTAMP:20260422T050022
CREATED:20260403T132314Z
LAST-MODIFIED:20260403T132314Z
UID:74687-1776103200-1776454200@www.athens.edu
SUMMARY:Athens State Thesis Exhibition\, Look
DESCRIPTION:Main Gallery \n\n\nReception – April 16th at 6pm-7:30pm \n\n\nFree and open to the public.
URL:https://www.athens.edu/event/athens-state-thesis-exhibition-look/
LOCATION:AL
CATEGORIES:Alabama Center for the Arts,Community
END:VEVENT
BEGIN:VEVENT
DTSTART;TZID=America/Chicago:20260416T140000
DTEND;TZID=America/Chicago:20260419T200000
DTSTAMP:20260422T050022
CREATED:20260406T143107Z
LAST-MODIFIED:20260416T180937Z
UID:74757-1776348000-1776628800@www.athens.edu
SUMMARY:Athenian Players present Metamorphoses
DESCRIPTION:Studio Theatre\, Arthur Orr Performing Arts Center \nApril 16-19\, 2026 \nApril 16-17-18 at 7pm \nApril 19 at 2pm \nTickets to this event are free\, however\, we ask that people reserve their seat online. Link not yet available.
URL:https://www.athens.edu/event/athenian-players-present-metamorphoses/
LOCATION:AL
CATEGORIES:Alabama Center for the Arts,Community
END:VEVENT
BEGIN:VEVENT
DTSTART;TZID=America/Chicago:20260416T170000
DTEND;TZID=America/Chicago:20260416T193000
DTSTAMP:20260422T050022
CREATED:20260309T201948Z
LAST-MODIFIED:20260309T204450Z
UID:74338-1776358800-1776367800@www.athens.edu
SUMMARY:Northeast Alabama Alumni & Friends Gathering
DESCRIPTION:Please join us for an alumni & friends gathering on Thursday\, April 16 from 5:00 – 7:30 PM at ReTreet Resort’s Star Dome in Scottsboro. Enjoy an evening of connection and conversation as you mix and mingle with fellow alumni\, friends\, and members of the University community. Hors d’oeuvres and cocktails will be provided by the Office of Alumni Affairs.
URL:https://www.athens.edu/event/northeast-alabama-alumni-friends-gathering/
LOCATION:ReTreet Resort\, Star Dome 5843 Scottsboro Hwy Scottsboro\, AL 35769\, ReTreet Resort\, Star Dome 5843 Scottsboro Hwy Scottsboro\, AL\, 35769\, United States
CATEGORIES:Athens State,Community,Alumni
END:VEVENT
END:VCALENDAR