BEGIN:VCALENDAR
VERSION:2.0
PRODID:-//Athens State University - ECPv6.15.19//NONSGML v1.0//EN
CALSCALE:GREGORIAN
METHOD:PUBLISH
X-ORIGINAL-URL:https://www.athens.edu
X-WR-CALDESC:Events for Athens State University
REFRESH-INTERVAL;VALUE=DURATION:PT1H
X-Robots-Tag:noindex
X-PUBLISHED-TTL:PT1H
BEGIN:VTIMEZONE
TZID:America/Chicago
BEGIN:DAYLIGHT
TZOFFSETFROM:-0600
TZOFFSETTO:-0500
TZNAME:CDT
DTSTART:20250309T080000
END:DAYLIGHT
BEGIN:STANDARD
TZOFFSETFROM:-0500
TZOFFSETTO:-0600
TZNAME:CST
DTSTART:20251102T070000
END:STANDARD
BEGIN:DAYLIGHT
TZOFFSETFROM:-0600
TZOFFSETTO:-0500
TZNAME:CDT
DTSTART:20260308T080000
END:DAYLIGHT
BEGIN:STANDARD
TZOFFSETFROM:-0500
TZOFFSETTO:-0600
TZNAME:CST
DTSTART:20261101T070000
END:STANDARD
BEGIN:DAYLIGHT
TZOFFSETFROM:-0600
TZOFFSETTO:-0500
TZNAME:CDT
DTSTART:20270314T080000
END:DAYLIGHT
BEGIN:STANDARD
TZOFFSETFROM:-0500
TZOFFSETTO:-0600
TZNAME:CST
DTSTART:20271107T070000
END:STANDARD
END:VTIMEZONE
BEGIN:VEVENT
DTSTART;TZID=America/Chicago:20260210T160000
DTEND;TZID=America/Chicago:20260510T180000
DTSTAMP:20260421T112159
CREATED:20260202T214726Z
LAST-MODIFIED:20260203T174817Z
UID:73869-1770739200-1778436000@www.athens.edu
SUMMARY:Transfer Tuesdays
DESCRIPTION:Come visit us every Tuesday between 4:00-6:00 pm to tour the campus\, meet with admissions\, hear about scholarship opportunities and meet current students.  This is for anyone interested in starting college at Athens State. \n  \nEvery attendee will receive a free SWAG item! \nLocation: Sandridge Student Center Ballroom \nCheck-In: 4:00 pm \nSign Up: https://athensstate.my.salesforce-sites.com/events#/list?type=transfer%20tuesdays
URL:https://www.athens.edu/event/transfer-tuesdays/
LOCATION:Sandridge Student Center Ballroom
CATEGORIES:Academics,Athens State,Admissions
END:VEVENT
BEGIN:VEVENT
DTSTART;VALUE=DATE:20260302
DTEND;VALUE=DATE:20260509
DTSTAMP:20260421T112159
CREATED:20260212T192316Z
LAST-MODIFIED:20260217T182130Z
UID:74063-1772409600-1778284799@www.athens.edu
SUMMARY:Char Baxter Solo Exhibition at Nazaretian
DESCRIPTION:
URL:https://www.athens.edu/event/char-baxter-solo-exhibition-at-nazaretian/
LOCATION:Nazaretian Alumni Welcome Center\, 300 N. Beaty St\, Athens\, AL\, United States
CATEGORIES:Athens State,Community
END:VEVENT
BEGIN:VEVENT
DTSTART;TZID=America/Chicago:20260421T180000
DTEND;TZID=America/Chicago:20260430T190000
DTSTAMP:20260421T112159
CREATED:20260406T140726Z
LAST-MODIFIED:20260406T140726Z
UID:74748-1776794400-1777575600@www.athens.edu
SUMMARY:Meaghan Hanback\, Athens State MFA Thesis Exhibition
DESCRIPTION:April 21-30 \nMain Gallery \nReception – Tuesday\, April 21 at 6pm \nFree and open to the public.
URL:https://www.athens.edu/event/meaghan-hanback-athens-state-mfa-thesis-exhibition/
LOCATION:AL
CATEGORIES:Alabama Center for the Arts,Community
END:VEVENT
BEGIN:VEVENT
DTSTART;VALUE=DATE:20260427
DTEND;VALUE=DATE:20260502
DTSTAMP:20260421T112159
CREATED:20251210T190146Z
LAST-MODIFIED:20251210T190146Z
UID:73500-1777248000-1777679999@www.athens.edu
SUMMARY:Spring 2026 Final Exams
DESCRIPTION:
URL:https://www.athens.edu/event/spring-2026-final-exams/
LOCATION:AL
CATEGORIES:College of Arts & Sciences,Academics,Alabama Center for the Arts,Athens State,College of Business,College of Education
END:VEVENT
BEGIN:VEVENT
DTSTART;TZID=America/Chicago:20260429T170000
DTEND;TZID=America/Chicago:20260429T173000
DTSTAMP:20260421T112159
CREATED:20260123T204323Z
LAST-MODIFIED:20260123T204413Z
UID:73753-1777482000-1777483800@www.athens.edu
SUMMARY:New Student Information Session
DESCRIPTION:The Student Success Center hosts several 30 minute virtual New Student Information Sessions throughout the semester to help new students get started at Athens State. \nThis session is for newly-admitted students to help them get started at Athens State. You may sign up for this session through the MyAthens Portal link below or at the link provided in your email from the Student Success Center. \nRegistration Link: //myathens.athens.edu/pages/new-student-info-session
URL:https://www.athens.edu/event/new-student-information-session-4-29-26/
LOCATION:Online
CATEGORIES:Athens State,Student Success Center,Webinar
END:VEVENT
END:VCALENDAR