BEGIN:VCALENDAR
VERSION:2.0
PRODID:-//Athens State University - ECPv6.15.19//NONSGML v1.0//EN
CALSCALE:GREGORIAN
METHOD:PUBLISH
X-WR-CALNAME:Athens State University
X-ORIGINAL-URL:https://www.athens.edu
X-WR-CALDESC:Events for Athens State University
REFRESH-INTERVAL;VALUE=DURATION:PT1H
X-Robots-Tag:noindex
X-PUBLISHED-TTL:PT1H
BEGIN:VTIMEZONE
TZID:America/Chicago
BEGIN:DAYLIGHT
TZOFFSETFROM:-0600
TZOFFSETTO:-0500
TZNAME:CDT
DTSTART:20240310T080000
END:DAYLIGHT
BEGIN:STANDARD
TZOFFSETFROM:-0500
TZOFFSETTO:-0600
TZNAME:CST
DTSTART:20241103T070000
END:STANDARD
BEGIN:DAYLIGHT
TZOFFSETFROM:-0600
TZOFFSETTO:-0500
TZNAME:CDT
DTSTART:20250309T080000
END:DAYLIGHT
BEGIN:STANDARD
TZOFFSETFROM:-0500
TZOFFSETTO:-0600
TZNAME:CST
DTSTART:20251102T070000
END:STANDARD
BEGIN:DAYLIGHT
TZOFFSETFROM:-0600
TZOFFSETTO:-0500
TZNAME:CDT
DTSTART:20260308T080000
END:DAYLIGHT
BEGIN:STANDARD
TZOFFSETFROM:-0500
TZOFFSETTO:-0600
TZNAME:CST
DTSTART:20261101T070000
END:STANDARD
END:VTIMEZONE
BEGIN:VEVENT
DTSTART;TZID=America/Chicago:20250813T183000
DTEND;TZID=America/Chicago:20250813T210000
DTSTAMP:20260421T052706
CREATED:20250730T155421Z
LAST-MODIFIED:20250805T183918Z
UID:70556-1755109800-1755118800@www.athens.edu
SUMMARY:North Alabama College Night Trash Pandas Baseball Game
DESCRIPTION:🎉⚾ ATTN: ATHENS STATE STUDENTS\, ALUMNI\, AND FRIENDS!⚾🎉 \nAthens State is excited to sponsor the upcoming North Alabama College Night Trash Pandas Baseball Game! Join us for an evening of baseball\, giveaways\, and community fun at Toyota Field! \n📅 Wednesday\, August 13 \n🕡 First pitch at 6:35 PM \n🎟️ Tickets start at just $10! \n📍 Trash Pandas Stadium/Toyota Field 500 Trash Panda Way Madison\, AL 35758 \nCome enjoy a thrilling game of baseball and learn more about Athens State’s programs and how to enroll! Whether you’re a future student or just love a great night at the ballpark\, you won’t want to miss this! 💙🧢
URL:https://www.athens.edu/event/north-alabama-college-night-baseball-game/
LOCATION:Toyota Field\, 500 Trash Panda Way\, Madison\, AL\, 35758\, United States
CATEGORIES:Athens State,Community,Athenian Players
END:VEVENT
BEGIN:VEVENT
DTSTART;TZID=America/Chicago:20250812T120000
DTEND;TZID=America/Chicago:20250812T123000
DTSTAMP:20260421T052706
CREATED:20250508T140705Z
LAST-MODIFIED:20250508T140705Z
UID:68868-1755000000-1755001800@www.athens.edu
SUMMARY:New Student Information Sessions
DESCRIPTION:This session is for newly admitted students to help them get started at Athens State. You may sign up for through the MyAthens Portal link below or at the link provided in your email from the Student Success Center. \nRegistration Link: myathens.athens.edu/pages/new-student-info-session
URL:https://www.athens.edu/event/new-student-information-sessions-81225/
LOCATION:Online
CATEGORIES:Athens State,Student Success Center,Webinar
END:VEVENT
BEGIN:VEVENT
DTSTART;TZID=America/Chicago:20250805T170000
DTEND;TZID=America/Chicago:20250805T173000
DTSTAMP:20260421T052706
CREATED:20250508T141025Z
LAST-MODIFIED:20250708T203705Z
UID:68876-1754413200-1754415000@www.athens.edu
SUMMARY:Information Sessions for Education Majors
DESCRIPTION:The Student Success Center hosts several 30 minute virtual Information Sessions for Education Majors throughout the terms to help new students get started at Athens State. We would like to have these added to the Events Calendar\, please. The verbiage below is what has been posted previously: \nThis session is for newly admitted Education students who are in programs seeking certification. This session is designed to help answer any questions regarding requirements specific to the College of Education such as TB skin test\, fingerprinting and background clearance\, and other general program information. \nRegistration Link: //myathens.athens.edu/pages/new-student-info-session
URL:https://www.athens.edu/event/information-sessions-for-education-majors-8525/
LOCATION:Online
CATEGORIES:Athens State,Student Success Center,Webinar
END:VEVENT
BEGIN:VEVENT
DTSTART;VALUE=DATE:20250805
DTEND;VALUE=DATE:20250806
DTSTAMP:20260421T052706
CREATED:20250307T163840Z
LAST-MODIFIED:20250702T175543Z
UID:67992-1754352000-1754438399@www.athens.edu
SUMMARY:Athenian Giving Day 2025
DESCRIPTION:SAVE THE DATE! Athens State University will host its fourth annual Athenian Giving Day on August 5\, 2025. This 24-hour campaign celebrates philanthropy on campus and highlights the impact of our generous community. All gifts\, no matter the size\, directly impact Athens State students. This year’s Giving Day goal is $50\,000.
URL:https://www.athens.edu/event/athenian-giving-day-2025/
LOCATION:Online
CATEGORIES:College of Arts & Sciences,Athens State,College of Business,College of Education,Clubs & Organizations,Kares Library,Giving Day
END:VEVENT
BEGIN:VEVENT
DTSTART;TZID=America/Chicago:20250804T120000
DTEND;TZID=America/Chicago:20250804T123000
DTSTAMP:20260421T052706
CREATED:20250508T140628Z
LAST-MODIFIED:20250508T140628Z
UID:68866-1754308800-1754310600@www.athens.edu
SUMMARY:New Student Information Sessions
DESCRIPTION:This session is for newly admitted students to help them get started at Athens State. You may sign up for through the MyAthens Portal link below or at the link provided in your email from the Student Success Center. \nRegistration Link: myathens.athens.edu/pages/new-student-info-session
URL:https://www.athens.edu/event/new-student-information-sessions-8425/
LOCATION:Online
CATEGORIES:Athens State,Student Success Center,Webinar
END:VEVENT
BEGIN:VEVENT
DTSTART;TZID=America/Chicago:20250730T120000
DTEND;TZID=America/Chicago:20250730T123000
DTSTAMP:20260421T052706
CREATED:20250508T140516Z
LAST-MODIFIED:20250508T140516Z
UID:68863-1753876800-1753878600@www.athens.edu
SUMMARY:New Student Information Sessions
DESCRIPTION:This session is for newly admitted students to help them get started at Athens State. You may sign up for through the MyAthens Portal link below or at the link provided in your email from the Student Success Center. \nRegistration Link: myathens.athens.edu/pages/new-student-info-session
URL:https://www.athens.edu/event/new-student-information-sessions-53025/
LOCATION:Online
CATEGORIES:Athens State,Student Success Center,Webinar
END:VEVENT
BEGIN:VEVENT
DTSTART;TZID=America/Chicago:20250726T100000
DTEND;TZID=America/Chicago:20250726T160000
DTSTAMP:20260421T052706
CREATED:20241204T223238Z
LAST-MODIFIED:20250103T160550Z
UID:66314-1753524000-1753545600@www.athens.edu
SUMMARY:Summer 2025 Graduation
DESCRIPTION:
URL:https://www.athens.edu/event/summer-2025-graduation/
LOCATION:AL
CATEGORIES:College of Arts & Sciences,Academics,College of Business,College of Education
END:VEVENT
BEGIN:VEVENT
DTSTART;TZID=America/Chicago:20250726T090000
DTEND;TZID=America/Chicago:20250726T120000
DTSTAMP:20260421T052706
CREATED:20250512T211304Z
LAST-MODIFIED:20250513T160559Z
UID:69010-1753520400-1753531200@www.athens.edu
SUMMARY:50 Year Club
DESCRIPTION:Congratulations class of 1975! \nWe invite you as a special guest in celebrating the 50th anniversary of your commencement from Athens College. This is a celebration to recognize your lifetime achievements these last 50 years and to thank you for being a valued member of our Alumni family. \nGraduates from the class of 1975 will dress in full regalia and receive special recognition of joining the “50 Year Club” at our summer commencement. Prior to awarding diplomas to the class of 2025\, you will cross the stage to receive your certificate as an official member of the “50 Year Club.” Immediately following the ceremony\, you and your guests are invited to an intimate brunch with University leaders in Kares Library. \nWe hope you are able to join us in July and return to campus to celebrate your time at Athens College. We are extremely proud of your accomplishments and we are honored to have played a role in your success. \nFor more details\, please click the link here. \n\nSaturday\, July 26\, 2025\n10 AM Ceremony (9:15 AM Arrival) \nCarter Gymnasium\nAthens State University\n300 N Beaty St\nAthens\, AL 35611 \nRSVP by July 11th\n256-233-8114\nalumni@athens.edu
URL:https://www.athens.edu/event/50-year-club/
LOCATION:Carter Gymnasium\, 476 East Pryor Street\, Athens\, AL\, 35611\, United States
CATEGORIES:Athens State,Alumni,Homecoming
END:VEVENT
BEGIN:VEVENT
DTSTART;TZID=America/Chicago:20250725T170000
DTEND;TZID=America/Chicago:20250725T193000
DTSTAMP:20260421T052706
CREATED:20250613T184732Z
LAST-MODIFIED:20250613T184811Z
UID:69577-1753462800-1753471800@www.athens.edu
SUMMARY:Homecoming
DESCRIPTION:Please join us as we celebrate Homecoming at Athens State University!\nOur Homecoming celebration will take place on Friday\, July 25 at 5:00 pm in the Sandridge Student Center Ballroom & Annex. We invite you to visit and reconnect with former classmates\, faculty\, and friends. We are extremely proud of your accomplishments\, and we are honored to have played a role in your success. \nTickets are free\, but registration is required for catering purposes. \nWe look forward to seeing you and hope to learn more about your experiences and adventures after your graduation!
URL:https://www.athens.edu/event/homecoming-2025/
LOCATION:Sandridge Student Center Ballroom
CATEGORIES:Athens State,Community,Alumni,Homecoming
END:VEVENT
BEGIN:VEVENT
DTSTART;TZID=America/Chicago:20250725T160000
DTEND;TZID=America/Chicago:20250725T170000
DTSTAMP:20260421T052706
CREATED:20250715T171512Z
LAST-MODIFIED:20250716T192207Z
UID:70172-1753459200-1753462800@www.athens.edu
SUMMARY:Nazaretian Alumni Welcome Center Ribbon Cutting
DESCRIPTION:Nazaretian Alumni Welcome Center Ribbon Cutting \nDate: Friday\, July 25 at 4:00 PM \nLocation: Nazaretian Alumni Welcome Center (300 N. Beaty Street)
URL:https://www.athens.edu/event/nazaretian-alumni-welcome-center-ribbon-cutting/
LOCATION:AL
CATEGORIES:Athens State,Staff,Alumni
END:VEVENT
BEGIN:VEVENT
DTSTART;TZID=America/Chicago:20250722T170000
DTEND;TZID=America/Chicago:20250722T173000
DTSTAMP:20260421T052706
CREATED:20250507T210851Z
LAST-MODIFIED:20250508T142231Z
UID:68861-1753203600-1753205400@www.athens.edu
SUMMARY:New Student Information Sessions
DESCRIPTION:This session is for newly admitted students to help them get started at Athens State. You may sign up for through the MyAthens Portal link below or at the link provided in your email from the Student Success Center. \nRegistration Link: myathens.athens.edu/pages/new-student-info-session
URL:https://www.athens.edu/event/new-student-information-sessions-72225/
LOCATION:Online
CATEGORIES:Athens State,Student Success Center,Webinar
END:VEVENT
BEGIN:VEVENT
DTSTART;TZID=America/Chicago:20250717T140000
DTEND;TZID=America/Chicago:20250720T210000
DTSTAMP:20260421T052706
CREATED:20250617T155258Z
LAST-MODIFIED:20250617T155530Z
UID:69591-1752760800-1753045200@www.athens.edu
SUMMARY:Next to Normal
DESCRIPTION:The Alabama Center for the Arts proudly presents Next to Normal. The Tony Award–winning rock musical that dives deep into love\, loss\, and the complexities of mental health. \nJuly 17-19@ 7:00 pm\nJuly 20@ 2:00 pm \nBook and lyrics by Brian Yorkley\nMusic by Tom Kift\nDirected by Dr Hugh K Long \n 
URL:https://www.athens.edu/event/next-to-normal/
LOCATION:Alabama Center for the Arts\, 133 2nd Ave NE\, Decatur\, AL\, 35601\, United States
CATEGORIES:Alabama Center for the Arts
END:VEVENT
BEGIN:VEVENT
DTSTART;TZID=America/Chicago:20250717T120000
DTEND;TZID=America/Chicago:20250717T123000
DTSTAMP:20260421T052706
CREATED:20250508T140945Z
LAST-MODIFIED:20250708T203750Z
UID:68874-1752753600-1752755400@www.athens.edu
SUMMARY:Information Sessions for Education Majors
DESCRIPTION:The Student Success Center hosts several 30 minute virtual Information Sessions for Education Majors throughout the terms to help new students get started at Athens State. We would like to have these added to the Events Calendar\, please. The verbiage below is what has been posted previously: \nThis session is for newly admitted Education students who are in programs seeking certification. This session is designed to help answer any questions regarding requirements specific to the College of Education such as TB skin test\, fingerprinting and background clearance\, and other general program information. \nRegistration Link: //myathens.athens.edu/pages/new-student-info-session
URL:https://www.athens.edu/event/information-sessions-for-education-majors-71725/
LOCATION:Online
CATEGORIES:Athens State,Student Success Center,Webinar
END:VEVENT
BEGIN:VEVENT
DTSTART;TZID=America/Chicago:20250710T120000
DTEND;TZID=America/Chicago:20250710T123000
DTSTAMP:20260421T052706
CREATED:20250507T210728Z
LAST-MODIFIED:20250508T142208Z
UID:68859-1752148800-1752150600@www.athens.edu
SUMMARY:New Student Information Sessions
DESCRIPTION:This session is for newly admitted students to help them get started at Athens State. You may sign up for through the MyAthens Portal link below or at the link provided in your email from the Student Success Center. \nRegistration Link: myathens.athens.edu/pages/new-student-info-session
URL:https://www.athens.edu/event/new-student-information-sessions-71025/
LOCATION:Online
CATEGORIES:Athens State,Student Success Center,Webinar
END:VEVENT
BEGIN:VEVENT
DTSTART;VALUE=DATE:20250704
DTEND;VALUE=DATE:20250705
DTSTAMP:20260421T052706
CREATED:20241204T223147Z
LAST-MODIFIED:20241204T223147Z
UID:66312-1751587200-1751673599@www.athens.edu
SUMMARY:Independence Day Holiday
DESCRIPTION:
URL:https://www.athens.edu/event/independence-day-holiday/
LOCATION:AL
END:VEVENT
BEGIN:VEVENT
DTSTART;TZID=America/Chicago:20250702T120000
DTEND;TZID=America/Chicago:20250702T123000
DTSTAMP:20260421T052706
CREATED:20250507T210604Z
LAST-MODIFIED:20250508T142123Z
UID:68857-1751457600-1751459400@www.athens.edu
SUMMARY:New Student Information Sessions
DESCRIPTION:This session is for newly admitted students to help them get started at Athens State. You may sign up for through the MyAthens Portal link below or at the link provided in your email from the Student Success Center. \nRegistration Link: myathens.athens.edu/pages/new-student-info-session
URL:https://www.athens.edu/event/new-student-information-sessions-6225-2/
LOCATION:Online
CATEGORIES:Athens State,Student Success Center,Webinar
END:VEVENT
BEGIN:VEVENT
DTSTART;TZID=America/Chicago:20250627T120000
DTEND;TZID=America/Chicago:20250627T123000
DTSTAMP:20260421T052706
CREATED:20250507T210443Z
LAST-MODIFIED:20250508T141911Z
UID:68855-1751025600-1751027400@www.athens.edu
SUMMARY:New Student Information Sessions
DESCRIPTION:This session is for newly admitted students to help them get started at Athens State. You may sign up for through the MyAthens Portal link below or at the link provided in your email from the Student Success Center. \nRegistration Link: myathens.athens.edu/pages/new-student-info-session
URL:https://www.athens.edu/event/new-student-information-sessions-62725/
LOCATION:Online
CATEGORIES:Athens State,Student Success Center,Webinar
END:VEVENT
BEGIN:VEVENT
DTSTART;VALUE=DATE:20250626
DTEND;VALUE=DATE:20250628
DTSTAMP:20260421T052706
CREATED:20250224T183946Z
LAST-MODIFIED:20250623T182303Z
UID:67523-1750896000-1751068799@www.athens.edu
SUMMARY:Summer Writing Summit
DESCRIPTION:WHAT IS THE SUMMER WRITING & ARTS SUMMIT? \nThe Summer Writing & Arts Summit is an educational and inspirational event for Athens State faculty\, staff\, students\, and local community members who are interested in either showcasing or improving their personal and academic writing. The purpose of the Summit is to highlight the importance and value of writing and art\, to encourage\, support\, and inspire writers and artists of every kind! \nWHEN IS THE SUMMER WRITING & ARTS SUMMIT? \nJune 26-27\, 2025 \n  \nWHERE WILL THE SUMMIT TAKE PLACE? \nJune 26– on the campus of Athens State University in Athens\, AL \nJune 27–at the Alabama Center for the Arts in Decatur\, AL \nWHAT WILL PEOPLE DO THERE? \nOn the first day there will be writing workshops\, work-in-progress sessions and author panel discussions. \nOn the second day there will be workshops in areas such as photography\, painting\, sculpting\, graphic design music and drama. The conference will culminate with an Arts Reception and Open Mic where special guests\, faculty and students will showcase their work. \nWHO SHOULD ATTEND and WHY? \nThis event is for writers\, artists or anyone interested in the creative arts. It is also for those who are interested in learning a craft or developing their skill. Last year we welcomed Alabama Poet Laureate\, Ashley Jones\, as our keynote speaker and workshop facilitator. We had about 100 attendees\, and this year we hope to maintain or increase that number since\, in addition to writing workshops with local authors and faculty\, we are also expanding our focus to include the arts. \nThis will also be an opportunity for small businesses to sell their products and/or put ads in our program book; authors can sell their books and artists can sell their works. \nCoinciding with the Summit is the ASU Writing Center Writing & Arts Competition. Writers will submit their works to be published in our literary magazine\, and artists will compete for their artwork to be featured on the cover. Winners of the contest will be announced on the last day of the Summit during the Open Mic event. \nHOW MUCH DOES IT COST? \nThis event is free and includes lunch on the first day and light refreshments on the second day. However\, space is limited and registration is required. \nHOW DO I REGISTER? \nRegistration opens May 1st and you may register by clicking here. For more information about this or other Writing Center events\, email writing.center@athens.edu or call 256-216-6665 or 6670. \nSee overview of 2025 summit sessions & descriptions.
URL:https://www.athens.edu/event/summer-writing-summit-2025/
LOCATION:Kares Library\, 407 East Pryor Street\, Athens\, AL\, 35611\, United States
CATEGORIES:College of Arts & Sciences,Athens State,College of Business,College of Education,Current Students,Faculty,Writing Center,Kares Library
ORGANIZER;CN="Writing Center":MAILTO:writing.center@athens.edu
END:VEVENT
BEGIN:VEVENT
DTSTART;TZID=America/Chicago:20250624T120000
DTEND;TZID=America/Chicago:20250624T123000
DTSTAMP:20260421T052706
CREATED:20250508T140854Z
LAST-MODIFIED:20250508T140854Z
UID:68872-1750766400-1750768200@www.athens.edu
SUMMARY:New Student Information Sessions
DESCRIPTION:This session is for newly admitted students to help them get started at Athens State. You may sign up for through the MyAthens Portal link below or at the link provided in your email from the Student Success Center. \nRegistration Link: myathens.athens.edu/pages/new-student-info-session
URL:https://www.athens.edu/event/new-student-information-sessions-62425/
LOCATION:Online
CATEGORIES:Athens State,Student Success Center,Webinar
END:VEVENT
BEGIN:VEVENT
DTSTART;VALUE=DATE:20250619
DTEND;VALUE=DATE:20250620
DTSTAMP:20260421T052706
CREATED:20241204T223121Z
LAST-MODIFIED:20241204T223121Z
UID:66310-1750291200-1750377599@www.athens.edu
SUMMARY:Juneteenth Holiday
DESCRIPTION:
URL:https://www.athens.edu/event/juneteenth-holiday/
LOCATION:AL
END:VEVENT
BEGIN:VEVENT
DTSTART;TZID=America/Chicago:20250618T170000
DTEND;TZID=America/Chicago:20250618T173000
DTSTAMP:20260421T052706
CREATED:20250507T210316Z
LAST-MODIFIED:20250508T141813Z
UID:68853-1750266000-1750267800@www.athens.edu
SUMMARY:New Student Information Sessions
DESCRIPTION:This session is for newly admitted students to help them get started at Athens State. You may sign up for through the MyAthens Portal link below or at the link provided in your email from the Student Success Center. \nRegistration Link: myathens.athens.edu/pages/new-student-info-session
URL:https://www.athens.edu/event/new-student-information-sessions-61825/
LOCATION:Online
CATEGORIES:Athens State,Student Success Center,Webinar
END:VEVENT
BEGIN:VEVENT
DTSTART;TZID=America/Chicago:20250613T120000
DTEND;TZID=America/Chicago:20250613T130000
DTSTAMP:20260421T052706
CREATED:20240515T043253Z
LAST-MODIFIED:20250530T171108Z
UID:62959-1749816000-1749819600@www.athens.edu
SUMMARY:Flag Day
DESCRIPTION:
URL:https://www.athens.edu/event/flag-day/
LOCATION:Sandridge Student Center Ballroom
CATEGORIES:Athens State,Community,Community Band
END:VEVENT
BEGIN:VEVENT
DTSTART;TZID=America/Chicago:20250612T120000
DTEND;TZID=America/Chicago:20250612T123000
DTSTAMP:20260421T052706
CREATED:20250507T205934Z
LAST-MODIFIED:20250508T141409Z
UID:68851-1749729600-1749731400@www.athens.edu
SUMMARY:New Student Information Sessions
DESCRIPTION:This session is for newly admitted students to help them get started at Athens State. You may sign up for through the MyAthens Portal link below or at the link provided in your email from the Student Success Center. \nRegistration Link: myathens.athens.edu/pages/new-student-info-session
URL:https://www.athens.edu/event/new-student-information-sessions-51225/
LOCATION:Online
CATEGORIES:Athens State,Student Success Center,Webinar
END:VEVENT
BEGIN:VEVENT
DTSTART;TZID=America/Chicago:20250602T120000
DTEND;TZID=America/Chicago:20250602T123000
DTSTAMP:20260421T052706
CREATED:20250507T205816Z
LAST-MODIFIED:20250508T141243Z
UID:68849-1748865600-1748867400@www.athens.edu
SUMMARY:New Student Information Sessions
DESCRIPTION:This session is for newly admitted students to help them get started at Athens State. You may sign up for through the MyAthens Portal link below or at the link provided in your email from the Student Success Center. \nRegistration Link: myathens.athens.edu/pages/new-student-info-session
URL:https://www.athens.edu/event/new-student-information-sessions-6225/
LOCATION:Online
CATEGORIES:Athens State,Student Success Center,Webinar
END:VEVENT
BEGIN:VEVENT
DTSTART;VALUE=DATE:20250526
DTEND;VALUE=DATE:20250527
DTSTAMP:20260421T052706
CREATED:20241204T223058Z
LAST-MODIFIED:20241204T223058Z
UID:66308-1748217600-1748303999@www.athens.edu
SUMMARY:Memorial Day Holiday
DESCRIPTION:
URL:https://www.athens.edu/event/memorial-day-holiday/
LOCATION:AL
END:VEVENT
BEGIN:VEVENT
DTSTART;TZID=America/Chicago:20250525T150000
DTEND;TZID=America/Chicago:20250525T160000
DTSTAMP:20260421T052706
CREATED:20250512T142404Z
LAST-MODIFIED:20250512T142404Z
UID:68935-1748185200-1748188800@www.athens.edu
SUMMARY:ACA and Athens State’s Music Industry Studies program present a Singer-Songwriter Series
DESCRIPTION:Athens State University’s Music Industry Studies program is proud to present the Singer-Songwriter Series\, an event designed to highlight the program’s two academic concentrations: Concert Touring and Live Performance as well as Music Business and Artist Management.\n\n\n\n\n\nThis event\, coordinated by Dr. Kevin Kelleher\, head of the Music Industry Studies program\, features The Moore Twins and is hosted at the Alabama Center for the Arts.\nStudio Theatre\, Performing Arts building\n\n\n\nSponsored by the Alabama Center for the Arts Foundation\, this initiative demonstrates the synergy between academic excellence and community engagement.\n\n\n\nTickets available online: https://athens.nbsstore.net/singer-songwriter-series
URL:https://www.athens.edu/event/aca-and-athens-states-music-industry-studies-program-present-a-singer-songwriter-series/
LOCATION:AL
CATEGORIES:Alabama Center for the Arts
END:VEVENT
BEGIN:VEVENT
DTSTART;TZID=America/Chicago:20250522T170000
DTEND;TZID=America/Chicago:20250522T173000
DTSTAMP:20260421T052706
CREATED:20250508T142533Z
LAST-MODIFIED:20250508T142533Z
UID:68880-1747933200-1747935000@www.athens.edu
SUMMARY:New Student Information Sessions
DESCRIPTION:This session is for newly admitted students to help them get started at Athens State. You may sign up for through the MyAthens Portal link below or at the link provided in your email from the Student Success Center. \nRegistration Link: myathens.athens.edu/pages/new-student-info-session
URL:https://www.athens.edu/event/new-student-information-sessions-52225/
LOCATION:Online
CATEGORIES:Athens State,Student Success Center,Webinar
END:VEVENT
BEGIN:VEVENT
DTSTART;TZID=America/Chicago:20250520T080000
DTEND;TZID=America/Chicago:20250520T090000
DTSTAMP:20260421T052706
CREATED:20250507T155657Z
LAST-MODIFIED:20250507T184114Z
UID:68840-1747728000-1747731600@www.athens.edu
SUMMARY:Town Hall Meeting – Carter Hall Renovation
DESCRIPTION:Presentation of Architectural Plans for Carter Hall Renovation.
URL:https://www.athens.edu/event/town-hall-meeting-carter-hall-renovation/
LOCATION:AL
CATEGORIES:Athens State,Community
END:VEVENT
BEGIN:VEVENT
DTSTART;TZID=America/Chicago:20250515T170000
DTEND;TZID=America/Chicago:20250515T173000
DTSTAMP:20260421T052706
CREATED:20250508T140809Z
LAST-MODIFIED:20250508T140809Z
UID:68870-1747328400-1747330200@www.athens.edu
SUMMARY:New Student Information Sessions
DESCRIPTION:This session is for newly admitted students to help them get started at Athens State. You may sign up for through the MyAthens Portal link below or at the link provided in your email from the Student Success Center. \nRegistration Link: myathens.athens.edu/pages/new-student-info-session
URL:https://www.athens.edu/event/new-student-information-sessions-51525/
LOCATION:Online
CATEGORIES:Athens State,Student Success Center,Webinar
END:VEVENT
BEGIN:VEVENT
DTSTART;TZID=America/Chicago:20250513T120000
DTEND;TZID=America/Chicago:20250513T123000
DTSTAMP:20260421T052706
CREATED:20250508T142452Z
LAST-MODIFIED:20250508T142452Z
UID:68878-1747137600-1747139400@www.athens.edu
SUMMARY:New Student Information Sessions
DESCRIPTION:This session is for newly admitted students to help them get started at Athens State. You may sign up for through the MyAthens Portal link below or at the link provided in your email from the Student Success Center. \nRegistration Link: myathens.athens.edu/pages/new-student-info-session
URL:https://www.athens.edu/event/new-student-information-sessions-51325/
LOCATION:Online
CATEGORIES:Athens State,Student Success Center,Webinar
END:VEVENT
END:VCALENDAR