BEGIN:VCALENDAR
VERSION:2.0
PRODID:-//Athens State University - ECPv6.15.19//NONSGML v1.0//EN
CALSCALE:GREGORIAN
METHOD:PUBLISH
X-WR-CALNAME:Athens State University
X-ORIGINAL-URL:https://www.athens.edu
X-WR-CALDESC:Events for Athens State University
REFRESH-INTERVAL;VALUE=DURATION:PT1H
X-Robots-Tag:noindex
X-PUBLISHED-TTL:PT1H
BEGIN:VTIMEZONE
TZID:America/Chicago
BEGIN:DAYLIGHT
TZOFFSETFROM:-0600
TZOFFSETTO:-0500
TZNAME:CDT
DTSTART:20250309T080000
END:DAYLIGHT
BEGIN:STANDARD
TZOFFSETFROM:-0500
TZOFFSETTO:-0600
TZNAME:CST
DTSTART:20251102T070000
END:STANDARD
BEGIN:DAYLIGHT
TZOFFSETFROM:-0600
TZOFFSETTO:-0500
TZNAME:CDT
DTSTART:20260308T080000
END:DAYLIGHT
BEGIN:STANDARD
TZOFFSETFROM:-0500
TZOFFSETTO:-0600
TZNAME:CST
DTSTART:20261101T070000
END:STANDARD
BEGIN:DAYLIGHT
TZOFFSETFROM:-0600
TZOFFSETTO:-0500
TZNAME:CDT
DTSTART:20270314T080000
END:DAYLIGHT
BEGIN:STANDARD
TZOFFSETFROM:-0500
TZOFFSETTO:-0600
TZNAME:CST
DTSTART:20271107T070000
END:STANDARD
END:VTIMEZONE
BEGIN:VEVENT
DTSTART;TZID=America/Chicago:20260425T160000
DTEND;TZID=America/Chicago:20260425T170000
DTSTAMP:20260421T141454
CREATED:20260407T173027Z
LAST-MODIFIED:20260407T173141Z
UID:74853-1777132800-1777136400@www.athens.edu
SUMMARY:Athens State University Community Band Spring Concert
DESCRIPTION:
URL:https://www.athens.edu/event/athens-state-university-community-band-spring-concert-2026/
LOCATION:AL
CATEGORIES:Athens State,Community
END:VEVENT
BEGIN:VEVENT
DTSTART;TZID=America/Chicago:20260423T130000
DTEND;TZID=America/Chicago:20260423T150000
DTSTAMP:20260421T141454
CREATED:20260402T145922Z
LAST-MODIFIED:20260402T145922Z
UID:74669-1776949200-1776956400@www.athens.edu
SUMMARY:Redstone Arsenal Combined College Graduation Recognition Ceremony
DESCRIPTION:
URL:https://www.athens.edu/event/redstone-arsenal-combined-college-graduation-recognition-ceremony/
LOCATION:AL
END:VEVENT
BEGIN:VEVENT
DTSTART;TZID=America/Chicago:20260421T140000
DTEND;TZID=America/Chicago:20260421T170000
DTSTAMP:20260421T141454
CREATED:20260317T190110Z
LAST-MODIFIED:20260410T211923Z
UID:74454-1776780000-1776790800@www.athens.edu
SUMMARY:Career Connect
DESCRIPTION:The Athens State Career Development Center and the Limestone County Economic Development Association\, are hosting a Career Connect Hiring Event on Tuesday\, April 21\, 2026\, from 2 – 5 p.m. at the Alabama Veteran’s Museum in Athens.
URL:https://www.athens.edu/event/career-connect/
LOCATION:AL
CATEGORIES:Athens State,Community
END:VEVENT
BEGIN:VEVENT
DTSTART;TZID=America/Chicago:20260421T120000
DTEND;TZID=America/Chicago:20260421T123000
DTSTAMP:20260421T141454
CREATED:20260123T204204Z
LAST-MODIFIED:20260123T204204Z
UID:73751-1776772800-1776774600@www.athens.edu
SUMMARY:New Student Information Session
DESCRIPTION:The Student Success Center hosts several 30 minute virtual New Student Information Sessions throughout the semester to help new students get started at Athens State. \nThis session is for newly-admitted students to help them get started at Athens State. You may sign up for this session through the MyAthens Portal link below or at the link provided in your email from the Student Success Center. \nRegistration Link: //myathens.athens.edu/pages/new-student-info-session
URL:https://www.athens.edu/event/new-student-information-session-21-26/
LOCATION:Online
CATEGORIES:Athens State,Student Success Center,Webinar
END:VEVENT
BEGIN:VEVENT
DTSTART;TZID=America/Chicago:20260417T120000
DTEND;TZID=America/Chicago:20260417T123000
DTSTAMP:20260421T141454
CREATED:20260123T204117Z
LAST-MODIFIED:20260123T204117Z
UID:73749-1776427200-1776429000@www.athens.edu
SUMMARY:New Student Information Session
DESCRIPTION:The Student Success Center hosts several 30 minute virtual New Student Information Sessions throughout the semester to help new students get started at Athens State. \nThis session is for newly-admitted students to help them get started at Athens State. You may sign up for this session through the MyAthens Portal link below or at the link provided in your email from the Student Success Center. \nRegistration Link: //myathens.athens.edu/pages/new-student-info-session
URL:https://www.athens.edu/event/new-student-information-session-4-17-26/
LOCATION:Online
CATEGORIES:Athens State,Student Success Center,Webinar
END:VEVENT
BEGIN:VEVENT
DTSTART;TZID=America/Chicago:20260416T170000
DTEND;TZID=America/Chicago:20260416T193000
DTSTAMP:20260421T141454
CREATED:20260309T201948Z
LAST-MODIFIED:20260309T204450Z
UID:74338-1776358800-1776367800@www.athens.edu
SUMMARY:Northeast Alabama Alumni & Friends Gathering
DESCRIPTION:Please join us for an alumni & friends gathering on Thursday\, April 16 from 5:00 – 7:30 PM at ReTreet Resort’s Star Dome in Scottsboro. Enjoy an evening of connection and conversation as you mix and mingle with fellow alumni\, friends\, and members of the University community. Hors d’oeuvres and cocktails will be provided by the Office of Alumni Affairs.
URL:https://www.athens.edu/event/northeast-alabama-alumni-friends-gathering/
LOCATION:ReTreet Resort\, Star Dome 5843 Scottsboro Hwy Scottsboro\, AL 35769\, ReTreet Resort\, Star Dome 5843 Scottsboro Hwy Scottsboro\, AL\, 35769\, United States
CATEGORIES:Athens State,Community,Alumni
END:VEVENT
BEGIN:VEVENT
DTSTART;TZID=America/Chicago:20260416T140000
DTEND;TZID=America/Chicago:20260419T200000
DTSTAMP:20260421T141454
CREATED:20260406T143107Z
LAST-MODIFIED:20260416T180937Z
UID:74757-1776348000-1776628800@www.athens.edu
SUMMARY:Athenian Players present Metamorphoses
DESCRIPTION:Studio Theatre\, Arthur Orr Performing Arts Center \nApril 16-19\, 2026 \nApril 16-17-18 at 7pm \nApril 19 at 2pm \nTickets to this event are free\, however\, we ask that people reserve their seat online. Link not yet available.
URL:https://www.athens.edu/event/athenian-players-present-metamorphoses/
LOCATION:AL
CATEGORIES:Alabama Center for the Arts,Community
END:VEVENT
BEGIN:VEVENT
DTSTART;TZID=America/Chicago:20260415T170000
DTEND;TZID=America/Chicago:20260415T173000
DTSTAMP:20260421T141454
CREATED:20260123T213203Z
LAST-MODIFIED:20260123T213203Z
UID:73767-1776272400-1776274200@www.athens.edu
SUMMARY:Information Session for Education Majors
DESCRIPTION:This session is for newly admitted Education and Secondary Education students who are in programs seeking certification. This session is designed to help answer any questions regarding requirements specific to the College of Education such as TB skin test\, fingerprinting and background clearance\, and other general program information. \nYou may register in the link below or through the link provided via email from the Student Success Center. \nRegistration Link: myathens.athens.edu/pages/new-student-info-session
URL:https://www.athens.edu/event/information-session-for-education-majors-4-15-26/
LOCATION:Online
CATEGORIES:Athens State,College of Education,Student Success Center,Webinar
END:VEVENT
BEGIN:VEVENT
DTSTART;TZID=America/Chicago:20260413T180000
DTEND;TZID=America/Chicago:20260417T193000
DTSTAMP:20260421T141454
CREATED:20260403T132314Z
LAST-MODIFIED:20260403T132314Z
UID:74687-1776103200-1776454200@www.athens.edu
SUMMARY:Athens State Thesis Exhibition\, Look
DESCRIPTION:Main Gallery \n\n\nReception – April 16th at 6pm-7:30pm \n\n\nFree and open to the public.
URL:https://www.athens.edu/event/athens-state-thesis-exhibition-look/
LOCATION:AL
CATEGORIES:Alabama Center for the Arts,Community
END:VEVENT
BEGIN:VEVENT
DTSTART;TZID=America/Chicago:20260411T100000
DTEND;TZID=America/Chicago:20260411T180000
DTSTAMP:20260421T141454
CREATED:20260406T141813Z
LAST-MODIFIED:20260406T142055Z
UID:74752-1775901600-1775930400@www.athens.edu
SUMMARY:ACA Jazz Festival
DESCRIPTION:Saturday\, April 11\, 2026 \nEvents at ACA 10am-6pm – all free and open to the public \nFinale Concert at the Princess Theatre at 7pm \nAfter party “jam” at The Brick
URL:https://www.athens.edu/event/aca-jazz-festival/
LOCATION:AL
CATEGORIES:Alabama Center for the Arts,Community
END:VEVENT
BEGIN:VEVENT
DTSTART;TZID=America/Chicago:20260406T120000
DTEND;TZID=America/Chicago:20260406T123000
DTSTAMP:20260421T141454
CREATED:20260123T203948Z
LAST-MODIFIED:20260123T203948Z
UID:73747-1775476800-1775478600@www.athens.edu
SUMMARY:New Student Information Session
DESCRIPTION:The Student Success Center hosts several 30 minute virtual New Student Information Sessions throughout the semester to help new students get started at Athens State. \nThis session is for newly-admitted students to help them get started at Athens State. You may sign up for this session through the MyAthens Portal link below or at the link provided in your email from the Student Success Center. \nRegistration Link: //myathens.athens.edu/pages/new-student-info-session
URL:https://www.athens.edu/event/new-student-information-session-4-6-26/
LOCATION:Online
CATEGORIES:Athens State,Student Success Center,Webinar
END:VEVENT
BEGIN:VEVENT
DTSTART;TZID=America/Chicago:20260401T120000
DTEND;TZID=America/Chicago:20260401T123000
DTSTAMP:20260421T141454
CREATED:20260123T203838Z
LAST-MODIFIED:20260123T203838Z
UID:73745-1775044800-1775046600@www.athens.edu
SUMMARY:New Student Information Session
DESCRIPTION:The Student Success Center hosts several 30 minute virtual New Student Information Sessions throughout the semester to help new students get started at Athens State. \nThis session is for newly-admitted students to help them get started at Athens State. You may sign up for this session through the MyAthens Portal link below or at the link provided in your email from the Student Success Center. \nRegistration Link: //myathens.athens.edu/pages/new-student-info-session
URL:https://www.athens.edu/event/new-student-information-session-4-1-26/
LOCATION:Online
CATEGORIES:Athens State,Student Success Center,Webinar
END:VEVENT
BEGIN:VEVENT
DTSTART;VALUE=DATE:20260401
DTEND;VALUE=DATE:20260402
DTSTAMP:20260421T141454
CREATED:20260316T141310Z
LAST-MODIFIED:20260316T141310Z
UID:74434-1775001600-1775087999@www.athens.edu
SUMMARY:How To Ace an Interview
DESCRIPTION:
URL:https://www.athens.edu/event/how-to-ace-an-interview-2026/
LOCATION:AL
CATEGORIES:Career Development,Student Activities,Career Development Center,Student Success Center
END:VEVENT
BEGIN:VEVENT
DTSTART;TZID=America/Chicago:20260331T113000
DTEND;TZID=America/Chicago:20260331T123000
DTSTAMP:20260421T141454
CREATED:20260306T150130Z
LAST-MODIFIED:20260306T150130Z
UID:74268-1774956600-1774960200@www.athens.edu
SUMMARY:Estate Planning Services
DESCRIPTION:
URL:https://www.athens.edu/event/estate-planning-services/
LOCATION:AL
CATEGORIES:Athens State,Community
END:VEVENT
BEGIN:VEVENT
DTSTART;TZID=America/Chicago:20260330T100000
DTEND;TZID=America/Chicago:20260330T110000
DTSTAMP:20260421T141454
CREATED:20260218T171034Z
LAST-MODIFIED:20260220T153137Z
UID:74110-1774864800-1774868400@www.athens.edu
SUMMARY:Brown Hall and Pillar & Paw Ribbon Cutting
DESCRIPTION:Ribbon cuttings at Brown Hall and Pillar & Paw on March 30 at 10:00 AM\, followed by a lunch with the Board of Trustees.
URL:https://www.athens.edu/event/brown-hall-and-pillar-paw-ribbon-cutting/
LOCATION:Athens State University\, 300 N. Beaty St.\, Athens\, AL\, 35611\, United States
CATEGORIES:Athens State,Staff
END:VEVENT
BEGIN:VEVENT
DTSTART;VALUE=DATE:20260325
DTEND;VALUE=DATE:20260328
DTSTAMP:20260421T141454
CREATED:20251210T190045Z
LAST-MODIFIED:20251210T190045Z
UID:73494-1774396800-1774655999@www.athens.edu
SUMMARY:Spring Break (No Classes\, Campus Closed)
DESCRIPTION:
URL:https://www.athens.edu/event/spring-break-no-classes-campus-closed/
LOCATION:AL
END:VEVENT
BEGIN:VEVENT
DTSTART;TZID=America/Chicago:20260323T120000
DTEND;TZID=America/Chicago:20260323T123000
DTSTAMP:20260421T141454
CREATED:20260123T203741Z
LAST-MODIFIED:20260123T203741Z
UID:73743-1774267200-1774269000@www.athens.edu
SUMMARY:New Student Information Session
DESCRIPTION:The Student Success Center hosts several 30 minute virtual New Student Information Sessions throughout the semester to help new students get started at Athens State. \nThis session is for newly-admitted students to help them get started at Athens State. You may sign up for this session through the MyAthens Portal link below or at the link provided in your email from the Student Success Center. \nRegistration Link: //myathens.athens.edu/pages/new-student-info-session
URL:https://www.athens.edu/event/new-student-information-session-3-23-26/
LOCATION:Online
CATEGORIES:Athens State,Student Success Center,Webinar
END:VEVENT
BEGIN:VEVENT
DTSTART;VALUE=DATE:20260323
DTEND;VALUE=DATE:20260325
DTSTAMP:20260421T141454
CREATED:20251210T190009Z
LAST-MODIFIED:20251210T190009Z
UID:73493-1774224000-1774396799@www.athens.edu
SUMMARY:Spring Break (No Classes\, Campus Open)
DESCRIPTION:
URL:https://www.athens.edu/event/spring-break-no-classes-campus-open/
LOCATION:AL
END:VEVENT
BEGIN:VEVENT
DTSTART;TZID=America/Chicago:20260318T120000
DTEND;TZID=America/Chicago:20260318T123000
DTSTAMP:20260421T141454
CREATED:20260123T213101Z
LAST-MODIFIED:20260123T213101Z
UID:73765-1773835200-1773837000@www.athens.edu
SUMMARY:Information Session for Education Majors
DESCRIPTION:This session is for newly admitted Education and Secondary Education students who are in programs seeking certification. This session is designed to help answer any questions regarding requirements specific to the College of Education such as TB skin test\, fingerprinting and background clearance\, and other general program information. \nYou may register in the link below or through the link provided via email from the Student Success Center. \nRegistration Link: myathens.athens.edu/pages/new-student-info-session
URL:https://www.athens.edu/event/information-session-for-education-majors-3-18-26/
LOCATION:Online
CATEGORIES:Athens State,College of Education,Student Success Center,Webinar
END:VEVENT
BEGIN:VEVENT
DTSTART;TZID=America/Chicago:20260317T170000
DTEND;TZID=America/Chicago:20260317T173000
DTSTAMP:20260421T141454
CREATED:20260123T203646Z
LAST-MODIFIED:20260123T203646Z
UID:73741-1773766800-1773768600@www.athens.edu
SUMMARY:New Student Information Session
DESCRIPTION:The Student Success Center hosts several 30 minute virtual New Student Information Sessions throughout the semester to help new students get started at Athens State. \nThis session is for newly-admitted students to help them get started at Athens State. You may sign up for this session through the MyAthens Portal link below or at the link provided in your email from the Student Success Center. \nRegistration Link: //myathens.athens.edu/pages/new-student-info-session
URL:https://www.athens.edu/event/new-student-information-session-3-17-26/
LOCATION:Online
CATEGORIES:Athens State,Student Success Center,Webinar
END:VEVENT
BEGIN:VEVENT
DTSTART;TZID=America/Chicago:20260312T190000
DTEND;TZID=America/Chicago:20260312T203000
DTSTAMP:20260421T141454
CREATED:20260203T145642Z
LAST-MODIFIED:20260205T210350Z
UID:73877-1773342000-1773347400@www.athens.edu
SUMMARY:International Women’s Day
DESCRIPTION:Athens State University invites the campus and community to a special International Women’s Day screening of LILLY\, starring Academy Award nominee Patricia Clarkson. \nThis powerful film tells the true story of Lilly Ledbetter\, a tireless advocate for equal pay\, whose courage and persistence helped spark one of the most significant workplace equality movements in American history. Her fight ultimately led to the Lilly Ledbetter Fair Pay Act of 2009\, a landmark piece of legislation advancing pay equity for women across the nation. \nThrough compelling storytelling and an unforgettable performance by Clarkson\, LILLY shines a light on resilience\, justice\, and the power of standing up for what is right—values that resonate deeply with Athens State University’s commitment to leadership\, integrity\, and opportunity for all. \nGuests are invited to attend a pre-event art exhibition titled “Wise Women” featuring the work of Char Baxter\, a current Athens State MFA student. The exhibit will be open from 6 – 7 pm in the Nazaretian Alumni Welcome Center. Artist\, Char Baxter\, will be on site for a meet and greet. \n— \nDate: Thursday\, March 12\, 2026\nTime: 7:00 pm (doors open at 6:00 pm)\nLocation: McCandless Hall Auditorium\nAdmission: FREE & Open to the Public (ticket required due to limited seating) \nEnjoy popcorn and beverages on us\, including a signature cocktail (for guests 21 or over). \nRSVP by February 28.
URL:https://www.athens.edu/event/international-womens-day-26/
LOCATION:AL
CATEGORIES:Athens State,Staff,Community
END:VEVENT
BEGIN:VEVENT
DTSTART;TZID=America/Chicago:20260311T120000
DTEND;TZID=America/Chicago:20260311T123000
DTSTAMP:20260421T141454
CREATED:20260123T203250Z
LAST-MODIFIED:20260123T203250Z
UID:73739-1773230400-1773232200@www.athens.edu
SUMMARY:New Student Information Session
DESCRIPTION:The Student Success Center hosts several 30 minute virtual New Student Information Sessions throughout the semester to help new students get started at Athens State. \nThis session is for newly-admitted students to help them get started at Athens State. You may sign up for this session through the MyAthens Portal link below or at the link provided in your email from the Student Success Center. \nRegistration Link: //myathens.athens.edu/pages/new-student-info-session
URL:https://www.athens.edu/event/new-student-information-session-3-11-26/
LOCATION:Online
CATEGORIES:Athens State,Student Success Center,Webinar
END:VEVENT
BEGIN:VEVENT
DTSTART;TZID=America/Chicago:20260306T120000
DTEND;TZID=America/Chicago:20260306T123000
DTSTAMP:20260421T141454
CREATED:20260123T203120Z
LAST-MODIFIED:20260123T203120Z
UID:73737-1772798400-1772800200@www.athens.edu
SUMMARY:New Student Information Session
DESCRIPTION:The Student Success Center hosts several 30 minute virtual New Student Information Sessions throughout the semester to help new students get started at Athens State. \nThis session is for newly-admitted students to help them get started at Athens State. You may sign up for this session through the MyAthens Portal link below or at the link provided in your email from the Student Success Center. \nRegistration Link: //myathens.athens.edu/pages/new-student-info-session
URL:https://www.athens.edu/event/new-student-information-session-3-6-26/
LOCATION:Online
CATEGORIES:Athens State,Student Success Center,Webinar
END:VEVENT
BEGIN:VEVENT
DTSTART;TZID=America/Chicago:20260304T080000
DTEND;TZID=America/Chicago:20260304T130000
DTSTAMP:20260421T141454
CREATED:20260218T184544Z
LAST-MODIFIED:20260218T184704Z
UID:74113-1772611200-1772629200@www.athens.edu
SUMMARY:Mental Health Summit
DESCRIPTION:We are excited to announce the 4th Annual Active Minds Mental Health Summit\, and we invite you to this impactful and inspiring event! \nThis in-person\, half-day FREE summit brings together high school and college students\, mental health professionals\, educators\, school counselors\, college faculty and staff\, and members of the community. Breakfast and lunch will be provided to all attendees. \nTogether\, we can break barriers and build balance in our mental health journey. \nRegister today: \nhttps://www.eventbrite.com/e/the-4th-annual-athens-state-university-active-minds-mental-health-summit-tickets-1969962316318?aff=oddtdtcreator
URL:https://www.athens.edu/event/mental-health-summit/
LOCATION:Athens State University\, 300 N. Beaty St.\, Athens\, AL\, 35611\, United States
CATEGORIES:Athens State,Faculty,Staff,Community,Alumni
END:VEVENT
BEGIN:VEVENT
DTSTART;TZID=America/Chicago:20260225T120000
DTEND;TZID=America/Chicago:20260225T123000
DTSTAMP:20260421T141454
CREATED:20260123T203001Z
LAST-MODIFIED:20260123T203001Z
UID:73735-1772020800-1772022600@www.athens.edu
SUMMARY:New Student Information Session
DESCRIPTION:The Student Success Center hosts several 30 minute virtual New Student Information Sessions throughout the semester to help new students get started at Athens State. \nThis session is for newly-admitted students to help them get started at Athens State. You may sign up for this session through the MyAthens Portal link below or at the link provided in your email from the Student Success Center. \nRegistration Link: //myathens.athens.edu/pages/new-student-info-session
URL:https://www.athens.edu/event/new-student-information-session-2-25-26/
LOCATION:Online
CATEGORIES:Athens State,Student Success Center,Webinar
END:VEVENT
BEGIN:VEVENT
DTSTART;TZID=America/Chicago:20260225T080000
DTEND;TZID=America/Chicago:20260225T170000
DTSTAMP:20260421T141454
CREATED:20260123T174018Z
LAST-MODIFIED:20260123T174018Z
UID:73724-1772006400-1772038800@www.athens.edu
SUMMARY:Soda Firing Workshop with Casey Beck @ ACA
DESCRIPTION:This four-day workshop\, February 22-25\, 2026\, will focus on the enigmatic surfaces produced through the process of soda firing. Participants will bring bisque ware to be fired in the kiln as bare clay or with a slipped surface and learn to load with the anticipation of the flame carrying the soda ash in mind. Work will be loaded closely\, tumble stacked\, and props will be made to direct flame movement throughout the kiln. During the firing we will cover the topics of soda ash introduction methods\, soaking and cooling the kiln to produce strong flashing and surface development on the work. The firing should yield a variety of colors and surfaces throughout the kiln ranging from browns and greys to reds and pinks. Each piece will have a varied surface with both flashing and a soda glaze. \nLocation: ACA Visual Arts building\, Room 108 and kiln yard \nTimes: \nDay one (Feb 22): 9am-evening (TBD)\, includes glazing\, wadding\, loading\, and beginning firing process \nDay two (Feb 23): 7am-2/7pm\, firing \nDay three (Feb 24): 9am-5pm\, includes lunch break: demonstrations/artist talk/studio visits \nDay four (Feb 25): 10am-4pm\, includes unloading\, cleaning\, and debriefing \nWorkshop Cost: $250 \nIf you have questions\, email Jamie.Adams@athens.edu. \nPreregistration required. \nPurchase Tickets: https://athens.nbsstore.net/soda-firing-workshop
URL:https://www.athens.edu/event/soda-firing-workshop-with-casey-beck-aca/
LOCATION:Alabama Center for the Arts\, 133 2nd Ave NE\, Decatur\, AL\, 35601\, United States
CATEGORIES:Alabama Center for the Arts,Athens State,Center for the Arts
END:VEVENT
BEGIN:VEVENT
DTSTART;TZID=America/Chicago:20260219T170000
DTEND;TZID=America/Chicago:20260219T173000
DTSTAMP:20260421T141454
CREATED:20260123T202057Z
LAST-MODIFIED:20260123T202057Z
UID:73733-1771520400-1771522200@www.athens.edu
SUMMARY:New Student Information Session
DESCRIPTION:The Student Success Center hosts several 30 minute virtual New Student Information Sessions throughout the semester to help new students get started at Athens State. \nThis session is for newly-admitted students to help them get started at Athens State. You may sign up for this session through the MyAthens Portal link below or at the link provided in your email from the Student Success Center. \nRegistration Link: //myathens.athens.edu/pages/new-student-info-session
URL:https://www.athens.edu/event/new-student-information-session-2-19-26/
LOCATION:Online
CATEGORIES:Athens State,Student Success Center,Webinar
END:VEVENT
BEGIN:VEVENT
DTSTART;TZID=America/Chicago:20260218T120000
DTEND;TZID=America/Chicago:20260218T123000
DTSTAMP:20260421T141454
CREATED:20260123T212953Z
LAST-MODIFIED:20260123T212953Z
UID:73763-1771416000-1771417800@www.athens.edu
SUMMARY:Information Session for Education Majors
DESCRIPTION:This session is for newly admitted Education and Secondary Education students who are in programs seeking certification. This session is designed to help answer any questions regarding requirements specific to the College of Education such as TB skin test\, fingerprinting and background clearance\, and other general program information. \nYou may register in the link below or through the link provided via email from the Student Success Center. \nRegistration Link: myathens.athens.edu/pages/new-student-info-session
URL:https://www.athens.edu/event/information-session-for-education-majors-2-18-26/
LOCATION:Online
CATEGORIES:Athens State,College of Education,Student Success Center,Webinar
END:VEVENT
BEGIN:VEVENT
DTSTART;TZID=America/Chicago:20260212T170000
DTEND;TZID=America/Chicago:20260212T193000
DTSTAMP:20260421T141454
CREATED:20260115T191311Z
LAST-MODIFIED:20260115T191914Z
UID:73646-1770915600-1770924600@www.athens.edu
SUMMARY:Athens State Alumni & Friends Mixer
DESCRIPTION:Please join us for an alumni and friends mixer on Thursday\, February 12 from 5 – 7:30 PM at the Nazaretian Alumni Welcome Center on the campus of Athens State University. Mix and mingle with fellow alumni with hors d’oeuvres and cocktails on us.\n \n\n\nIn addition to reconnecting with fellow alumni and friends\, you’ll have the opportunity to meet the artist behind Light on the Land. This exhibition will be displayed in the Nazaretian Alumni Welcome Center from January 20 – February 27.\n \n\nTrevor Thomas is a Master of Fine Arts student graduating this summer. He will be with us throughout our alumni & friends mixer to share insights into his work and creative process for Light on the Land.
URL:https://www.athens.edu/event/athens-state-alumni-friends-mixer-feb-2026/
LOCATION:AL
CATEGORIES:Athens State,Community,Alumni
END:VEVENT
BEGIN:VEVENT
DTSTART;TZID=America/Chicago:20260209T120000
DTEND;TZID=America/Chicago:20260209T123000
DTSTAMP:20260421T141454
CREATED:20260123T202010Z
LAST-MODIFIED:20260123T202010Z
UID:73731-1770638400-1770640200@www.athens.edu
SUMMARY:New Student Information Session
DESCRIPTION:The Student Success Center hosts several 30 minute virtual New Student Information Sessions throughout the semester to help new students get started at Athens State. \nThis session is for newly-admitted students to help them get started at Athens State. You may sign up for this session through the MyAthens Portal link below or at the link provided in your email from the Student Success Center. \nRegistration Link: //myathens.athens.edu/pages/new-student-info-session
URL:https://www.athens.edu/event/new-student-information-session-2-9-26/
LOCATION:Online
CATEGORIES:Athens State,Student Success Center,Webinar
END:VEVENT
END:VCALENDAR